BEGIN:VCALENDAR
VERSION:2.0
PRODID:-//Horizon Europe - ECPv6.15.20//NONSGML v1.0//EN
CALSCALE:GREGORIAN
METHOD:PUBLISH
X-ORIGINAL-URL:https://www.research.org.cy/horizoncy
X-WR-CALDESC:Events for Horizon Europe
REFRESH-INTERVAL;VALUE=DURATION:PT1H
X-Robots-Tag:noindex
X-PUBLISHED-TTL:PT1H
BEGIN:VTIMEZONE
TZID:Europe/Athens
BEGIN:DAYLIGHT
TZOFFSETFROM:+0200
TZOFFSETTO:+0300
TZNAME:EEST
DTSTART:20230326T010000
END:DAYLIGHT
BEGIN:STANDARD
TZOFFSETFROM:+0300
TZOFFSETTO:+0200
TZNAME:EET
DTSTART:20231029T010000
END:STANDARD
BEGIN:DAYLIGHT
TZOFFSETFROM:+0200
TZOFFSETTO:+0300
TZNAME:EEST
DTSTART:20240331T010000
END:DAYLIGHT
BEGIN:STANDARD
TZOFFSETFROM:+0300
TZOFFSETTO:+0200
TZNAME:EET
DTSTART:20241027T010000
END:STANDARD
BEGIN:DAYLIGHT
TZOFFSETFROM:+0200
TZOFFSETTO:+0300
TZNAME:EEST
DTSTART:20250330T010000
END:DAYLIGHT
BEGIN:STANDARD
TZOFFSETFROM:+0300
TZOFFSETTO:+0200
TZNAME:EET
DTSTART:20251026T010000
END:STANDARD
END:VTIMEZONE
BEGIN:VEVENT
DTSTART;TZID=Europe/Athens:20240717T090000
DTEND;TZID=Europe/Athens:20240717T130000
DTSTAMP:20260424T074606
CREATED:20240709T060007Z
LAST-MODIFIED:20240709T060007Z
UID:44411-1721206800-1721221200@www.research.org.cy
SUMMARY:Εργαστήριο Συγγραφής Προτάσεων ERC 17 Ιουλίου 2024\, 09:00-13:00
DESCRIPTION:Το Ίδρυμα Έρευνας και Καινοτομίας (ΙδΕΚ) διοργανώνει την Τετάρτη 17 Ιουλίου 2024\, 09:00 – 13:00\, εργαστήριο συγγραφής προτάσεων για τις Προσκλήσεις του European Research Council (ERC)\, στην αίθουσα ΑΦΡΟΔΙΤΗ του ξενοδοχείου Cleopatra\, στη Λευκωσία. \nΣτόχος της εκδήλωσης είναι να προσφέρει στους ερευνητές που ετοιμάζουν προτάσεις ERC στο πλαίσιο των Προσκλήσεων του 2025 (Starting Grant\, Consolidator Grant\, Advanced Grant\, Synergy Grant)\, πρακτικές συμβουλές για τη συγγραφή\, μέσα από ένα διαδραστικό εργαστήριο. Μεταξύ άλλων θα συζητηθεί η διαδικασία υποβολής και αξιολόγησης πρότασης\, θα δοθούν συμβουλές για το περιεχόμενο των διαφορετικών τμημάτων της πρότασης\, θα αναλυθούν τα κριτήρια αξιολόγησης\, θα συζητηθούν συχνοί λόγοι απόρριψης και συχνά θέματα προβληματισμού. \nΟι ενδιαφερόμενοι/ες θα πρέπει να διαθέτουν βασικές γνώσεις για τις Προσκλήσεις ERC (ιδιαιτερότητες\, επιλεξιμότητα\, χαρακτηριστικά έργου κλπ)\, έχοντας παρακολουθήσει την ενημερωτική ημερίδα που θα διοργανώσει το ΙδΕΚ στις 11 Ιουλίου 2024 ή παρόμοιες εκδηλώσεις ή/και έχοντας μελετήσει σχετικά επίσημα έγγραφα. Σε διαφορετική περίπτωση\, πριν την εγγραφή οι ενδιαφερόμενοι/ες θα πρέπει να επικοινωνήσουν με το Εθνικό Σημείο Επαφής για το ERC. \nΗ ατζέντα της εκδήλωσης είναι διαθέσιμη εδώ. \nΓια τη συμμετοχή είναι απαραίτητη η εγγραφή μέσω του ακόλουθου συνδέσμου.  Σημειώνεται ότι ο αριθμός θέσεων είναι περιορισμένος και ενδέχεται να γίνει επιλογή των συμμετεχόντων. Η συμμετοχή είναι δωρεάν. \nΤο ERC ενθαρρύνει έρευνα της υψηλότερης ποιότητας στην Ευρώπη\, παρέχοντας μακροχρόνια ανταγωνιστική χρηματοδότηση στη βάση αποκλειστικά της επιστημονικής αριστείας\, στους πλέον άριστους επιστήμονες\, προκειμένου να υλοποιήσουν πρωτοποριακά ερευνητικά έργα στην αιχμή της επιστήμης. \nΓια σχετικές πληροφορίες\, οι ενδιαφερόμενοι μπορούν να επικοινωνούν με το αρμόδιο Εθνικό Σημείο Επαφής για το ERC (Κατερίνα Καρακασίδου Μάλλα\, kkarakasidou@research.org.cy).
URL:https://www.research.org.cy/horizoncy/event/ergastirio-syngrafis-protaseon-erc-17-iouliou-2024-0900-1300/
LOCATION:Cleopatra Hotel\, Nicosia\, Cyprus
END:VEVENT
END:VCALENDAR