BEGIN:VCALENDAR
VERSION:2.0
PRODID:-//ΙδΕΚ - ECPv6.15.20//NONSGML v1.0//EN
CALSCALE:GREGORIAN
METHOD:PUBLISH
X-WR-CALNAME:ΙδΕΚ
X-ORIGINAL-URL:https://www.research.org.cy
X-WR-CALDESC:ΙδΕΚ - Εκδηλώσεις
REFRESH-INTERVAL;VALUE=DURATION:PT1H
X-Robots-Tag:noindex
X-PUBLISHED-TTL:PT1H
BEGIN:VTIMEZONE
TZID:Europe/Athens
BEGIN:DAYLIGHT
TZOFFSETFROM:+0200
TZOFFSETTO:+0300
TZNAME:EEST
DTSTART:20190331T010000
END:DAYLIGHT
BEGIN:STANDARD
TZOFFSETFROM:+0300
TZOFFSETTO:+0200
TZNAME:EET
DTSTART:20191027T010000
END:STANDARD
BEGIN:DAYLIGHT
TZOFFSETFROM:+0200
TZOFFSETTO:+0300
TZNAME:EEST
DTSTART:20200329T010000
END:DAYLIGHT
BEGIN:STANDARD
TZOFFSETFROM:+0300
TZOFFSETTO:+0200
TZNAME:EET
DTSTART:20201025T010000
END:STANDARD
BEGIN:DAYLIGHT
TZOFFSETFROM:+0200
TZOFFSETTO:+0300
TZNAME:EEST
DTSTART:20210328T010000
END:DAYLIGHT
BEGIN:STANDARD
TZOFFSETFROM:+0300
TZOFFSETTO:+0200
TZNAME:EET
DTSTART:20211031T010000
END:STANDARD
END:VTIMEZONE
BEGIN:VEVENT
DTSTART;TZID=Europe/Athens:20200929T170000
DTEND;TZID=Europe/Athens:20200929T193000
DTSTAMP:20260421T113720
CREATED:20200930T082911Z
LAST-MODIFIED:20200930T083535Z
UID:10545-1601398800-1601407800@www.research.org.cy
SUMMARY:Ειδικό εργαστήρι για επιμόρφωση νεοφυών επιχειρήσεων (startups)\, σχετικά με τους τρόπους προώθησης μίας καινοτόμου επιχείρησης από το «Innovation Factory».
DESCRIPTION:Στο κλειστό εργαστήρι θα συμμετέχουν πέραν των 60 επιχειρήσεων οι οποίες διεκδικούν χρηματοδότηση στο πλαίσιο του Προγράμματος του ΙδΕΚ «PRE-SEED»\, το οποίο αφορά τη δημιουργία και αρχική ανάπτυξη νεοφυών επιχειρήσεων με διεθνή προσανατολισμό. \nΣτο πλαίσιο της  εκδήλωσης\, οι συμμετέχοντες θα έχουν την ευκαιρία να προετοιμαστούν για τη Β’ Φάση της Αξιολόγησης\, αναπτύσσοντας\, μέσα από μία σειρά διαδραστικών δραστηριοτήτων\, δεξιότητες σε σχέση με την παρουσίαση της ιδέας τους ενώπιον Επιτροπής και αντλώντας παράλληλα\, χρήσιμες συμβουλές\, μεταξύ άλλων για τεκμηρίωση οικονομικών προβλέψεων\, καθώς και για θέματα που λαμβάνουν υπόψη επενδυτές. \nΣτο εργαστήρι θα απευθύνει χαιρετισμό ο Επικεφαλής Επιστήμονας και Πρόεδρος του Διοικητικού Συμβουλίου του ΙδΕΚ\, Δρ. Νικόλας Μαστρογιαννόπουλος\, επίσης  Αντιπρόεδρος του Διοικητικού Συμβουλίου του ΙδΕΚ\, Σταυριάνα Κοφτερός\, υπό την ιδιότητά της ως μέλους της Επενδυτικής Επιτροπής του Ευρωπαϊκού Συμβουλίου Καινοτομίας\, θα αναδείξει τη σημασία του «Pitching» και θα αναλύσει καλές πρακτικές παρουσίασης καινοτόμων επιχειρηματικών ιδεών σε επενδυτές. \n    \n 
URL:https://www.research.org.cy/event/10545/
LOCATION:Cleopatra Hotel\, Nicosia\, Cyprus
END:VEVENT
END:VCALENDAR